BEGIN:VCALENDAR
VERSION:2.0
PRODID:-//Minnesota Vixen - ECPv6.15.13//NONSGML v1.0//EN
CALSCALE:GREGORIAN
METHOD:PUBLISH
X-WR-CALNAME:Minnesota Vixen
X-ORIGINAL-URL:https://www.mnvixen.com
X-WR-CALDESC:Events for Minnesota Vixen
REFRESH-INTERVAL;VALUE=DURATION:PT1H
X-Robots-Tag:noindex
X-PUBLISHED-TTL:PT1H
BEGIN:VTIMEZONE
TZID:America/Chicago
BEGIN:DAYLIGHT
TZOFFSETFROM:-0600
TZOFFSETTO:-0500
TZNAME:CDT
DTSTART:20130310T080000
END:DAYLIGHT
BEGIN:STANDARD
TZOFFSETFROM:-0500
TZOFFSETTO:-0600
TZNAME:CST
DTSTART:20131103T070000
END:STANDARD
BEGIN:DAYLIGHT
TZOFFSETFROM:-0600
TZOFFSETTO:-0500
TZNAME:CDT
DTSTART:20140309T080000
END:DAYLIGHT
BEGIN:STANDARD
TZOFFSETFROM:-0500
TZOFFSETTO:-0600
TZNAME:CST
DTSTART:20141102T070000
END:STANDARD
BEGIN:DAYLIGHT
TZOFFSETFROM:-0600
TZOFFSETTO:-0500
TZNAME:CDT
DTSTART:20150308T080000
END:DAYLIGHT
BEGIN:STANDARD
TZOFFSETFROM:-0500
TZOFFSETTO:-0600
TZNAME:CST
DTSTART:20151101T070000
END:STANDARD
BEGIN:DAYLIGHT
TZOFFSETFROM:-0600
TZOFFSETTO:-0500
TZNAME:CDT
DTSTART:20160313T080000
END:DAYLIGHT
BEGIN:STANDARD
TZOFFSETFROM:-0500
TZOFFSETTO:-0600
TZNAME:CST
DTSTART:20161106T070000
END:STANDARD
BEGIN:DAYLIGHT
TZOFFSETFROM:-0600
TZOFFSETTO:-0500
TZNAME:CDT
DTSTART:20170312T080000
END:DAYLIGHT
BEGIN:STANDARD
TZOFFSETFROM:-0500
TZOFFSETTO:-0600
TZNAME:CST
DTSTART:20171105T070000
END:STANDARD
BEGIN:DAYLIGHT
TZOFFSETFROM:-0600
TZOFFSETTO:-0500
TZNAME:CDT
DTSTART:20180311T080000
END:DAYLIGHT
BEGIN:STANDARD
TZOFFSETFROM:-0500
TZOFFSETTO:-0600
TZNAME:CST
DTSTART:20181104T070000
END:STANDARD
BEGIN:DAYLIGHT
TZOFFSETFROM:-0600
TZOFFSETTO:-0500
TZNAME:CDT
DTSTART:20190310T080000
END:DAYLIGHT
BEGIN:STANDARD
TZOFFSETFROM:-0500
TZOFFSETTO:-0600
TZNAME:CST
DTSTART:20191103T070000
END:STANDARD
BEGIN:DAYLIGHT
TZOFFSETFROM:-0600
TZOFFSETTO:-0500
TZNAME:CDT
DTSTART:20200308T080000
END:DAYLIGHT
BEGIN:STANDARD
TZOFFSETFROM:-0500
TZOFFSETTO:-0600
TZNAME:CST
DTSTART:20201101T070000
END:STANDARD
BEGIN:DAYLIGHT
TZOFFSETFROM:-0600
TZOFFSETTO:-0500
TZNAME:CDT
DTSTART:20210314T080000
END:DAYLIGHT
BEGIN:STANDARD
TZOFFSETFROM:-0500
TZOFFSETTO:-0600
TZNAME:CST
DTSTART:20211107T070000
END:STANDARD
BEGIN:DAYLIGHT
TZOFFSETFROM:-0600
TZOFFSETTO:-0500
TZNAME:CDT
DTSTART:20220313T080000
END:DAYLIGHT
BEGIN:STANDARD
TZOFFSETFROM:-0500
TZOFFSETTO:-0600
TZNAME:CST
DTSTART:20221106T070000
END:STANDARD
END:VTIMEZONE
BEGIN:VEVENT
DTSTART;TZID=America/Chicago:20210605T180000
DTEND;TZID=America/Chicago:20210605T210000
DTSTAMP:20260425T162014
CREATED:20210420T022933Z
LAST-MODIFIED:20210420T022933Z
UID:5620-1622916000-1622926800@www.mnvixen.com
SUMMARY:Minnesota Vixen at Arlington Impact
DESCRIPTION:The Vixen return to Texas to take on the Arlington Impact. These two teams last met in the 2013 playoffs where the Impact won 18-14. As a WFA Division 1 team\, Arlington is still a formidable opponent but the Vixen are hungry for a win in Texas!
URL:https://www.mnvixen.com/event/minnesota-vixen-arlington-impact/
LOCATION:Mansfield High School\, 3001 E. Broad Street\, Mansfield \, TX\, United States
CATEGORIES:Away Game
ATTACH;FMTTYPE=image/png:https://www.mnvixen.com/wp-content/uploads/2021/04/Impact_logo_large-1.png
END:VEVENT
BEGIN:VEVENT
DTSTART;TZID=America/Chicago:20210522T190000
DTEND;TZID=America/Chicago:20210522T220000
DTSTAMP:20260425T162014
CREATED:20210420T022323Z
LAST-MODIFIED:20210420T022323Z
UID:5617-1621710000-1621720800@www.mnvixen.com
SUMMARY:Minnesota Vixen at Iowa Phoenix
DESCRIPTION:In the second game of the Vixen season\, they travel just south of the boarder to once again face-off against the Iowa Phoenix. Will the Phoenix rise from the ashes and conquer the Vixen? Be there or watch live web-stream.
URL:https://www.mnvixen.com/event/minnesota-vixen-iowa-phoenix/
LOCATION:Valley Stadium\, 4440 Mills Civic Parkway\, West Des Moines\, IA\, United States
CATEGORIES:Away Game
ATTACH;FMTTYPE=image/png:https://www.mnvixen.com/wp-content/uploads/2021/04/IowaPhoenix_handover_football_Transparentbackground-300x300.png
END:VEVENT
BEGIN:VEVENT
DTSTART;VALUE=DATE:20170408
DTEND;VALUE=DATE:20170409
DTSTAMP:20260425T162014
CREATED:20170303T004259Z
LAST-MODIFIED:20170303T013014Z
UID:3383-1491609600-1491695999@www.mnvixen.com
SUMMARY:Game 2: The MN Vixen @ MN Machine
DESCRIPTION:In the second game of the 2017 season\, the Minnesota Vixen take on the Machine.
URL:https://www.mnvixen.com/event/game-2-mn-vixen-mn-machine/
LOCATION:TX
CATEGORIES:Away Game
END:VEVENT
BEGIN:VEVENT
DTSTART;TZID=America/Chicago:20170401T170000
DTEND;TZID=America/Chicago:20170401T170000
DTSTAMP:20260425T162014
CREATED:20170206T000452Z
LAST-MODIFIED:20170303T012555Z
UID:3371-1491066000-1491066000@www.mnvixen.com
SUMMARY:2017 Season Begins! Game 1: The MN Vixen @ Madison Blaze
DESCRIPTION:The Vixen will begin their 19th season on April 1st\, 2017 against long time rival the Madison Blaze!
URL:https://www.mnvixen.com/event/season-17-opening-game/
LOCATION:TX
CATEGORIES:Away Game
END:VEVENT
BEGIN:VEVENT
DTSTART;TZID=America/Chicago:20160528T180000
DTEND;TZID=America/Chicago:20160528T210000
DTSTAMP:20260425T162014
CREATED:20160504T223042Z
LAST-MODIFIED:20160504T223042Z
UID:2784-1464458400-1464469200@www.mnvixen.com
SUMMARY:Vixen @ Pride
DESCRIPTION:
URL:https://www.mnvixen.com/event/vixen-pride/
LOCATION:TX
CATEGORIES:Away Game
END:VEVENT
BEGIN:VEVENT
DTSTART;TZID=America/Chicago:20160514T180000
DTEND;TZID=America/Chicago:20160514T200000
DTSTAMP:20260425T162014
CREATED:20160504T222229Z
LAST-MODIFIED:20160504T222229Z
UID:2783-1463248800-1463256000@www.mnvixen.com
SUMMARY:Vixen @ Crush
DESCRIPTION:The Vixen travel to Iowa to take on the Iowa Crush on their home turf.
URL:https://www.mnvixen.com/event/vixen-crush/
LOCATION:TX
CATEGORIES:Away Game
END:VEVENT
BEGIN:VEVENT
DTSTART;TZID=America/Chicago:20160409T060000
DTEND;TZID=America/Chicago:20160409T210000
DTSTAMP:20260425T162014
CREATED:20160130T050211Z
LAST-MODIFIED:20160130T050211Z
UID:2668-1460181600-1460235600@www.mnvixen.com
SUMMARY:Season Opener- MN Vixen at the Rocky Mountain Thunder Katz
DESCRIPTION:
URL:https://www.mnvixen.com/event/season-opener-mn-vixen-at-the-rocky-mountain-thunder-katz/
LOCATION:Sand Creek High School\, 7005 N Carefree Circle\, Colorado Springs \, CO\, 80922\, United States
CATEGORIES:Away Game
END:VEVENT
BEGIN:VEVENT
DTSTART;TZID=America/Chicago:20140614T150000
DTEND;TZID=America/Chicago:20140614T150000
DTSTAMP:20260425T162014
CREATED:20140415T085436Z
LAST-MODIFIED:20140415T090555Z
UID:154-1402758000-1402758000@www.mnvixen.com
SUMMARY:MN Vixen @ Iowa Crush (6/14/14)
DESCRIPTION:
URL:https://www.mnvixen.com/event/mn-vixen-iowa-crush-61414/
LOCATION:Valley Stadium\, 4440 Mills Civic Parkway\, West Des Moines\, IA\, United States
CATEGORIES:Away Game
END:VEVENT
BEGIN:VEVENT
DTSTART;TZID=America/Chicago:20140503T193000
DTEND;TZID=America/Chicago:20140503T193000
DTSTAMP:20260425T162014
CREATED:20140415T091031Z
LAST-MODIFIED:20140415T091031Z
UID:163-1399145400-1399145400@www.mnvixen.com
SUMMARY:MN Vixen @ Madison Blaze (5/3/14)
DESCRIPTION:
URL:https://www.mnvixen.com/event/mn-vixen-madison-blaze-5314/
LOCATION:Middleton High\, 2100 Bristol St.\, Middleton\, WI\, United States
CATEGORIES:Away Game
END:VEVENT
BEGIN:VEVENT
DTSTART;TZID=America/Chicago:20140426T170000
DTEND;TZID=America/Chicago:20140426T170000
DTSTAMP:20260425T162014
CREATED:20140415T091557Z
LAST-MODIFIED:20140422T012558Z
UID:165-1398531600-1398531600@www.mnvixen.com
SUMMARY:MN Vixen @ WI Warriors (4/26/14)
DESCRIPTION:The MN Vixen play the WI Warriors for their 2014 Season Opener Game (April 26 in Wisconsin).
URL:https://www.mnvixen.com/event/mn-vixen-wi-warriors-42614/
LOCATION:Stephen J. Gavinski Memorial Stadium @ Greendale HS\, 6801 Southway\, Greendale\, WI\, United States
CATEGORIES:Away Game
END:VEVENT
END:VCALENDAR