BEGIN:VCALENDAR
VERSION:2.0
PRODID:-//Minnesota Vixen - ECPv6.15.13//NONSGML v1.0//EN
CALSCALE:GREGORIAN
METHOD:PUBLISH
X-ORIGINAL-URL:https://www.mnvixen.com
X-WR-CALDESC:Events for Minnesota Vixen
REFRESH-INTERVAL;VALUE=DURATION:PT1H
X-Robots-Tag:noindex
X-PUBLISHED-TTL:PT1H
BEGIN:VTIMEZONE
TZID:America/Chicago
BEGIN:DAYLIGHT
TZOFFSETFROM:-0600
TZOFFSETTO:-0500
TZNAME:CDT
DTSTART:20140309T080000
END:DAYLIGHT
BEGIN:STANDARD
TZOFFSETFROM:-0500
TZOFFSETTO:-0600
TZNAME:CST
DTSTART:20141102T070000
END:STANDARD
BEGIN:DAYLIGHT
TZOFFSETFROM:-0600
TZOFFSETTO:-0500
TZNAME:CDT
DTSTART:20150308T080000
END:DAYLIGHT
BEGIN:STANDARD
TZOFFSETFROM:-0500
TZOFFSETTO:-0600
TZNAME:CST
DTSTART:20151101T070000
END:STANDARD
BEGIN:DAYLIGHT
TZOFFSETFROM:-0600
TZOFFSETTO:-0500
TZNAME:CDT
DTSTART:20160313T080000
END:DAYLIGHT
BEGIN:STANDARD
TZOFFSETFROM:-0500
TZOFFSETTO:-0600
TZNAME:CST
DTSTART:20161106T070000
END:STANDARD
BEGIN:DAYLIGHT
TZOFFSETFROM:-0600
TZOFFSETTO:-0500
TZNAME:CDT
DTSTART:20170312T080000
END:DAYLIGHT
BEGIN:STANDARD
TZOFFSETFROM:-0500
TZOFFSETTO:-0600
TZNAME:CST
DTSTART:20171105T070000
END:STANDARD
END:VTIMEZONE
BEGIN:VEVENT
DTSTART;TZID=America/Chicago:20161217T160000
DTEND;TZID=America/Chicago:20161217T190000
DTSTAMP:20260425T150652
CREATED:20161209T184934Z
LAST-MODIFIED:20161209T184934Z
UID:3071-1481990400-1482001200@www.mnvixen.com
SUMMARY:Ziggy's beer Bust
DESCRIPTION:Join the Minnesota Vixen Women’s Football team for a Beer Bust on Saturday December 17th\, 4:00pm to 7:00pm at Ziggy’s Restaurant. Only $10 for a wrist band gets you all you can drink beer until the kegs are gone!!  \nZiggy’s is ran by a former Vixen player – help us kick off our 2017 season at this Vixen run establishment!
URL:https://www.mnvixen.com/event/ziggys-beer-bust/
LOCATION:Ziggy’s Restaurants\, 132 Main St. South\, Stillwater\, MN\, 55082\, United States
END:VEVENT
BEGIN:VEVENT
DTSTART;TZID=America/Chicago:20161001T110000
DTEND;TZID=America/Chicago:20161001T140000
DTSTAMP:20260425T150652
CREATED:20150722T232941Z
LAST-MODIFIED:20160804T011041Z
UID:2326-1475319600-1475330400@www.mnvixen.com
SUMMARY:Tryouts!
DESCRIPTION:See if you have what it takes to be a Vixen!!\nThe Minnesota Vixen are the longest continuously operating women’s tackle football team in the nation. We are currently looking for women of all shapes and sizes for the 2016 season.   All women 18+ are encouraged to attend.  We don’t require any prior football experience – we will teach you everything you need to know! \n    \nDepending on the weather we’ll either be outdoors on the field (west side of the school & parking lot)\, or indoors in the gym (enter through door 1 on the NW side of the school) \n    \nPlease bring: \n\nAthletic shoes (cleats if you have them\, but not required)\nWorkout clothing\nWater\nTryout fee – if you didn’t pre-register (same day registration $50 cash or check)\nCopy of your ID (license\, Gov’t issued ID)\nCopy of your Health Insurance card (front & back)\n\n   \nCost:  \n$25 Pre-registered.\n$50 Same day registration. \nRegister here! \nThere will be 3 tryout dates\, you only need to attend one of the three dates to tryout for the team.
URL:https://www.mnvixen.com/event/tryouts-3/
LOCATION:Northwestern Health Sciences University\, 2501 W 84th St\,\, Bloomington\, MN\, 55431\, United States
END:VEVENT
BEGIN:VEVENT
DTSTART;TZID=America/Chicago:20160910T140000
DTEND;TZID=America/Chicago:20160910T160000
DTSTAMP:20260425T150652
CREATED:20140908T175028Z
LAST-MODIFIED:20160802T235513Z
UID:1549-1473516000-1473523200@www.mnvixen.com
SUMMARY:Open Practice
DESCRIPTION:Whether you’re a novice or planning on trying out for the team\, this is a great way to try your hand at some drills with actual Vixen players. This is a casual practice\, non- contact\, and open to the public for females ages 18 and older.  No registration required and FREE!\n   \nWe will be doing our standard warm-ups followed by non-contact drills in both offense and defense.  You will get a chance to learn how to do a proper 3 point stance\, catch like a receiver and take a hand-off from the quarterback!\n  \nWear athletic clothing appropriate for outdoors including shoes (cleats not required) and bring water to drink. Mouth guards encouraged but not required.  The field is on the west side of the building on 84th street.\n\n  
URL:https://www.mnvixen.com/event/open-practice/
LOCATION:Northwestern Health Sciences University\, 2501 W 84th St\,\, Bloomington\, MN\, 55431\, United States
END:VEVENT
BEGIN:VEVENT
DTSTART;TZID=America/Chicago:20160611T180000
DTEND;TZID=America/Chicago:20160611T210000
DTSTAMP:20260425T150652
CREATED:20160504T223909Z
LAST-MODIFIED:20160504T223909Z
UID:2786-1465668000-1465678800@www.mnvixen.com
SUMMARY:Vixen vs. Katz
DESCRIPTION:See the Vixen take on the Rocky Mountain Thunder Katz in the final game of the season.
URL:https://www.mnvixen.com/event/vixen-vs-katz/
CATEGORIES:Home Game
END:VEVENT
BEGIN:VEVENT
DTSTART;TZID=America/Chicago:20160604T180000
DTEND;TZID=America/Chicago:20160604T210000
DTSTAMP:20260425T150652
CREATED:20160504T223239Z
LAST-MODIFIED:20160504T223347Z
UID:2785-1465063200-1465074000@www.mnvixen.com
SUMMARY:Vixen vs. Blaze
DESCRIPTION:See the Vixen take on their conference rivals the Madison Blaze in what is sure to be a decisive battle to determine the Midwest Conference leader.
URL:https://www.mnvixen.com/event/vixen-vs-blaze/
CATEGORIES:Home Game
END:VEVENT
BEGIN:VEVENT
DTSTART;TZID=America/Chicago:20160528T180000
DTEND;TZID=America/Chicago:20160528T210000
DTSTAMP:20260425T150652
CREATED:20160504T223042Z
LAST-MODIFIED:20160504T223042Z
UID:2784-1464458400-1464469200@www.mnvixen.com
SUMMARY:Vixen @ Pride
DESCRIPTION:
URL:https://www.mnvixen.com/event/vixen-pride/
CATEGORIES:Away Game
END:VEVENT
BEGIN:VEVENT
DTSTART;TZID=America/Chicago:20160514T180000
DTEND;TZID=America/Chicago:20160514T200000
DTSTAMP:20260425T150652
CREATED:20160504T222229Z
LAST-MODIFIED:20160504T222229Z
UID:2783-1463248800-1463256000@www.mnvixen.com
SUMMARY:Vixen @ Crush
DESCRIPTION:The Vixen travel to Iowa to take on the Iowa Crush on their home turf.
URL:https://www.mnvixen.com/event/vixen-crush/
CATEGORIES:Away Game
END:VEVENT
BEGIN:VEVENT
DTSTART;TZID=America/Chicago:20160507T180000
DTEND;TZID=America/Chicago:20160507T200000
DTSTAMP:20260425T150652
CREATED:20160504T220950Z
LAST-MODIFIED:20160504T221724Z
UID:2780-1462644000-1462651200@www.mnvixen.com
SUMMARY:Vixen vs. Pride
DESCRIPTION:Watch the 3-0 Vixen take on the 0-2 Detroit Pride at their home stadium in Inver Grove Heights\, MN
URL:https://www.mnvixen.com/event/vixen-vs-pride/
LOCATION:Simley High School\, 2990 80th Street\, Inver Grove Heights\, MN\, 55076\, United States
CATEGORIES:Home Game
END:VEVENT
BEGIN:VEVENT
DTSTART;TZID=America/Chicago:20160416T180000
DTEND;TZID=America/Chicago:20160416T210000
DTSTAMP:20260425T150652
CREATED:20160130T050312Z
LAST-MODIFIED:20160130T050335Z
UID:2670-1460829600-1460840400@www.mnvixen.com
SUMMARY:Home Opener- MN Vixen Host The Iowa Crush
DESCRIPTION:
URL:https://www.mnvixen.com/event/home-opener-mn-vixen-host-the-iowa-crush/
LOCATION:Simley High School\, 2990 80th Street\, Inver Grove Heights\, MN\, 55076\, United States
CATEGORIES:Home Game
END:VEVENT
BEGIN:VEVENT
DTSTART;TZID=America/Chicago:20160409T060000
DTEND;TZID=America/Chicago:20160409T210000
DTSTAMP:20260425T150652
CREATED:20160130T050211Z
LAST-MODIFIED:20160130T050211Z
UID:2668-1460181600-1460235600@www.mnvixen.com
SUMMARY:Season Opener- MN Vixen at the Rocky Mountain Thunder Katz
DESCRIPTION:
URL:https://www.mnvixen.com/event/season-opener-mn-vixen-at-the-rocky-mountain-thunder-katz/
LOCATION:Sand Creek High School\, 7005 N Carefree Circle\, Colorado Springs \, CO\, 80922\, United States
CATEGORIES:Away Game
END:VEVENT
BEGIN:VEVENT
DTSTART;TZID=America/Chicago:20160221T160000
DTEND;TZID=America/Chicago:20160221T190000
DTSTAMP:20260425T150652
CREATED:20160130T044730Z
LAST-MODIFIED:20160130T044807Z
UID:2659-1456070400-1456081200@www.mnvixen.com
SUMMARY:Pasta Dinner Fundraiser
DESCRIPTION:Come Support your Minnesota Vixen on February 21st and have a great meal too! \nThe Minnesota Vixen Pasta Dinner will be held at Mallards On The St. Croix from 4 pm to 7pm. \nTickets are $20 per person and all proceeds go to help sponsor your Minnesota Vixen.
URL:https://www.mnvixen.com/event/pasta-dinner-fundraiser/
LOCATION:Mallards On The St. Croix\, 101 5th Ave S\, Bayport\, MN\, 55003\, United States
CATEGORIES:Fundraiser
END:VEVENT
BEGIN:VEVENT
DTSTART;TZID=America/Chicago:20160213T140000
DTEND;TZID=America/Chicago:20160213T170000
DTSTAMP:20260425T150652
CREATED:20160130T043338Z
LAST-MODIFIED:20160130T044223Z
UID:2651-1455372000-1455382800@www.mnvixen.com
SUMMARY:B-52 Beer Bust
DESCRIPTION:Join the Minnesota Vixen Women’s Football players for a Beer Bust on Saturday February 13th\, 2:00pm to 5:00pm at B-52 Burgers & Brew!!.  \nOnly $10 for a wrist band gets you all you can drink beer!!! See you there!
URL:https://www.mnvixen.com/event/b-52-beer-bust/
LOCATION:B-52 Burgers and Brew\, 5639 Bishop Ave\, Inver Grove Heights\, MN\, 55076\, United States
CATEGORIES:Fundraiser
END:VEVENT
BEGIN:VEVENT
DTSTART;VALUE=DATE:20151031
DTEND;VALUE=DATE:20151101
DTSTAMP:20260425T150652
CREATED:20150117T054603Z
LAST-MODIFIED:20150117T054603Z
UID:1896-1446249600-1446335999@www.mnvixen.com
SUMMARY:Monster Dash
DESCRIPTION:Keep an eye out for Vixen players working at the Monster Dash!
URL:https://www.mnvixen.com/event/monster-dash/
END:VEVENT
BEGIN:VEVENT
DTSTART;VALUE=DATE:20150829
DTEND;VALUE=DATE:20150830
DTSTAMP:20260425T150652
CREATED:20150117T054529Z
LAST-MODIFIED:20150117T054529Z
UID:1895-1440806400-1440892799@www.mnvixen.com
SUMMARY:Women Rock
DESCRIPTION:Keep an eye out for Vixen players working at the Women Rock race!
URL:https://www.mnvixen.com/event/women-rock/
END:VEVENT
BEGIN:VEVENT
DTSTART;VALUE=DATE:20150823
DTEND;VALUE=DATE:20150824
DTSTAMP:20260425T150652
CREATED:20150117T054331Z
LAST-MODIFIED:20150117T054331Z
UID:1893-1440288000-1440374399@www.mnvixen.com
SUMMARY:Minneapolis Duathlon
DESCRIPTION:Keep an eye out for Vixen players working at the Minneapolis Duathlon!
URL:https://www.mnvixen.com/event/minneapolis-duathlon/
END:VEVENT
BEGIN:VEVENT
DTSTART;VALUE=DATE:20150613
DTEND;VALUE=DATE:20150614
DTSTAMP:20260425T150652
CREATED:20150119T043012Z
LAST-MODIFIED:20150119T043012Z
UID:1998-1434153600-1434239999@www.mnvixen.com
SUMMARY:Minnesota Vixen @ Iowa Crush
DESCRIPTION:In the final game of the season and fresh off a bye week\, the Vixen take on the Iowa Crush. Will it be a repeat of the final game of the 2014 season when the Vixen defeated the Crush in overtime? Find out by following the game on Twitter @MinnVixen. Kick TBD.
URL:https://www.mnvixen.com/event/minnesota-vixen-iowa-crush/
LOCATION:IA
END:VEVENT
BEGIN:VEVENT
DTSTART;VALUE=DATE:20150531
DTEND;VALUE=DATE:20150601
DTSTAMP:20260425T150652
CREATED:20150117T054221Z
LAST-MODIFIED:20150117T054221Z
UID:1892-1433030400-1433116799@www.mnvixen.com
SUMMARY:Minneapolis Marathon
DESCRIPTION:Keep an eye out for Vixen players working at the Minneapolis Marathon!
URL:https://www.mnvixen.com/event/minneapolis-marathon/
END:VEVENT
BEGIN:VEVENT
DTSTART;VALUE=DATE:20150530
DTEND;VALUE=DATE:20150531
DTSTAMP:20260425T150652
CREATED:20150119T042708Z
LAST-MODIFIED:20150119T042708Z
UID:1996-1432944000-1433030399@www.mnvixen.com
SUMMARY:Minnesota Vixen @ Madison Blaze
DESCRIPTION:The Vixen continue their Wisconsin road trip with a visit to the Madison Blaze. With only two weeks left in the regular season\, these games are a must win. Follow the game on Twitter @MinnVixen. Kick off at 5 pm.
URL:https://www.mnvixen.com/event/minnesota-vixen-madison-blaze/
LOCATION:Unnamed Venue\, WI
END:VEVENT
BEGIN:VEVENT
DTSTART;VALUE=DATE:20150523
DTEND;VALUE=DATE:20150524
DTSTAMP:20260425T150652
CREATED:20150119T041907Z
LAST-MODIFIED:20150119T043557Z
UID:1994-1432339200-1432425599@www.mnvixen.com
SUMMARY:Minnesota Vixen @ Wisconsin Warriors
DESCRIPTION:After a 4 games at home\, the Vixen venture into Wisconsin to take on the Warriors in week 7.  Will the Vixen come out on top on this Memorial Day Weekend? Follow the game on Twitter @MinnVixen to find out! Kick off tbd. \nThe Vixen would like to dedicate this game to all the brave men and women of the armed forces\, who paid the ultimate price in service to our country.
URL:https://www.mnvixen.com/event/minnesota-vixen-wisconsin-warriors/
END:VEVENT
BEGIN:VEVENT
DTSTART;TZID=America/Chicago:20150516T180000
DTEND;TZID=America/Chicago:20150516T210000
DTSTAMP:20260425T150652
CREATED:20150119T041333Z
LAST-MODIFIED:20150119T041333Z
UID:1993-1431799200-1431810000@www.mnvixen.com
SUMMARY:Minnesota Vixen vs. Nebraska Stampede
DESCRIPTION:Week 6 brings the second meeting of the Vixen and the Stampede for the 2015 season.  With half of the season behind them\, this pivital game could set the tone for the remainder of the season.\n \nJoin us for the game at Simley High School in Inver Grove Heights. Kick off at 6 pm with the poat game party at the Clarion Hotel in South St. Paul.
URL:https://www.mnvixen.com/event/minnesota-vixen-vs-nebraska-stampede/
LOCATION:Simley High School\, 2990 80th Street\, Inver Grove Heights\, MN\, 55076\, United States
END:VEVENT
BEGIN:VEVENT
DTSTART;TZID=America/Chicago:20150509T180000
DTEND;TZID=America/Chicago:20150509T210000
DTSTAMP:20260425T150652
CREATED:20150119T032038Z
LAST-MODIFIED:20150501T150147Z
UID:1989-1431194400-1431205200@www.mnvixen.com
SUMMARY:Minnesota Vixen vs. Madison Blaze
DESCRIPTION:Fresh of their bye week\, the Vixen face the 2014 Midwest Division Champs\, the Madison Blaze. Always a tough opponent\, the Vixen had their first ever win against the Blaze last season with an 18-14 win. This season the Vixen plan on continuing the new tradition! \nMay 9th is also Military Appreciation night.   Any active-duty military or veterans will get half off their entrance to the game! \nJoin us for the game at Simley High School in Inver Grove Heights. Kick off at 6 pm.
URL:https://www.mnvixen.com/event/minnesota-vixen-vs-madison-blaze/
LOCATION:Simley High School\, 2990 80th Street\, Inver Grove Heights\, MN\, 55076\, United States
END:VEVENT
BEGIN:VEVENT
DTSTART;TZID=America/Chicago:20150425T180000
DTEND;TZID=America/Chicago:20150425T210000
DTSTAMP:20260425T150652
CREATED:20150119T031023Z
LAST-MODIFIED:20150119T032558Z
UID:1987-1429984800-1429995600@www.mnvixen.com
SUMMARY:Minnesota Vixen vs. Iowa Crush
DESCRIPTION:In week 3 of the season\, the Vixen face-off agianst the Iowa Crush. The Crush have shown to be a challenging opponent in the past. In the final meeting of the two teams in 2014\, the Vixen walked away with an overtime victory\, 12-6. This game should prove to be just as exciting as the Vixen continue the hunt for the title of 2015 Midwest Division Champs.\n \nJoin us for the game at Simley High School in Inver Grove Heights. Kick off at 6 pm.
URL:https://www.mnvixen.com/event/minnesota-vixen-vs-iowa-crush/
LOCATION:Simley High School\, 2990 80th Street\, Inver Grove Heights\, MN\, 55076\, United States
END:VEVENT
BEGIN:VEVENT
DTSTART;TZID=America/Chicago:20150418T180000
DTEND;TZID=America/Chicago:20150418T210000
DTSTAMP:20260425T150652
CREATED:20150119T030136Z
LAST-MODIFIED:20150119T032703Z
UID:1985-1429380000-1429390800@www.mnvixen.com
SUMMARY:Minnesota Vixen vs. Wisconsin Warriors
DESCRIPTION:The 2015 home opener should be a good one as the Vixen take on the Warriors. The Vixen boast their largest roster in over a decade with 51 players and have their eye on the Midwset Division Championship. Last season the Vixen swept the series with the Warriors (12-6\, 14-0) and are looking to do the same this year!\n \nCome join us for the game at Simley High School in Inver Grove heights. Kick off is at 6pm.
URL:https://www.mnvixen.com/event/minnesota-vixen-vs-wisconsin-warriors/
LOCATION:Simley High School\, 2990 80th Street\, Inver Grove Heights\, MN\, 55076\, United States
END:VEVENT
BEGIN:VEVENT
DTSTART;TZID=America/Chicago:20150411T190000
DTEND;TZID=America/Chicago:20150411T190000
DTSTAMP:20260425T150652
CREATED:20150119T024419Z
LAST-MODIFIED:20150119T024419Z
UID:1983-1428778800-1428778800@www.mnvixen.com
SUMMARY:Minnesota Vixen @ Nebraska Stampede
DESCRIPTION:In the 2015 Season opener the Nebraska Stampede will host the Minnesota Vixen.  The Stampede are new members of the IWFL and the Vixen are eager to start the season off with a win. Follow the game on Twitter @MinnVixen.
URL:https://www.mnvixen.com/event/minnesota-vixen-nebraska-stampede/
LOCATION:NE
END:VEVENT
BEGIN:VEVENT
DTSTART;TZID=America/Chicago:20150404T050000
DTEND;TZID=America/Chicago:20150404T200000
DTSTAMP:20260425T150652
CREATED:20150407T024146Z
LAST-MODIFIED:20150407T024146Z
UID:2101-1428123600-1428177600@www.mnvixen.com
SUMMARY:Beer Bust at Lush Food Bar
DESCRIPTION:
URL:https://www.mnvixen.com/event/beer-bust-at-lush-food-bar/
END:VEVENT
BEGIN:VEVENT
DTSTART;TZID=America/Chicago:20150321T170000
DTEND;TZID=America/Chicago:20150322T010000
DTSTAMP:20260425T150652
CREATED:20150117T054732Z
LAST-MODIFIED:20150117T055627Z
UID:1897-1426957200-1426986000@www.mnvixen.com
SUMMARY:Vixen Annual Silent Auction and Night of Fun!
DESCRIPTION:Join us for a night of fun and fund-raising! The night will begin with a taco feed and beer bust followed by our annual silent action and last but not least\, dance the night away with our DJ. \n  \n5 pm Doors open \n5:30 pm Taco feed \n6 pm Silent auction begins \n7 pm silent auction closes \n8 pm DJ begins
URL:https://www.mnvixen.com/event/vixen-annual-silent-auction-night-fun/
LOCATION:enVision Hotel\, 701 Concord Street South\, South St. Paul\, MN\, 55075\, United States
END:VEVENT
BEGIN:VEVENT
DTSTART;VALUE=DATE:20150314
DTEND;VALUE=DATE:20150315
DTSTAMP:20260425T150652
CREATED:20150117T054138Z
LAST-MODIFIED:20150117T054246Z
UID:1891-1426291200-1426377599@www.mnvixen.com
SUMMARY:Get Lucky Marathon
DESCRIPTION:Keep an eye out for Vixen players working at the Get Lucky race!
URL:https://www.mnvixen.com/event/get-lucky-marathon/
END:VEVENT
BEGIN:VEVENT
DTSTART;TZID=America/Chicago:20150218T170000
DTEND;TZID=America/Chicago:20150218T210000
DTSTAMP:20260425T150652
CREATED:20150112T213852Z
LAST-MODIFIED:20150130T191550Z
UID:1815-1424278800-1424293200@www.mnvixen.com
SUMMARY:Minnesota Vixen Pasta Dinner
DESCRIPTION:Come Support your Minnesota Vixen on February 18th!  The Minnesota Vixen Pasta Dinner will be held at Mallards On The St. Croix from 5 pm to 9pm.  Tickets are $20 per person and all proceeds go to help sponsor your Minnesota Vixen. \nPurchase tickets here.
URL:https://www.mnvixen.com/event/minnesota-vixen-pasta-dinner/
LOCATION:Mallards On The St. Croix\, 101 5th Ave S\, Bayport\, MN\, 55003\, United States
CATEGORIES:Fundraiser
END:VEVENT
BEGIN:VEVENT
DTSTART;TZID=America/Chicago:20150110T180000
DTEND;TZID=America/Chicago:20150110T210000
DTSTAMP:20260425T150652
CREATED:20150103T180831Z
LAST-MODIFIED:20150103T180831Z
UID:1694-1420912800-1420923600@www.mnvixen.com
SUMMARY:Beer Bust at Jerseys Bar and Grill
DESCRIPTION:Great News- The MN Vixen will be having a beer bust at Jerseys Bar And Grill \,Saturday Jan. 10th 6pm to 9pm!! Come mingle with your MN Vixen players and help the team!\n$10 per wrist band for all you can drink beer! (until kegs are gone)\nThe band Gel will be playing that night too!! Stick around and catch their show!
URL:https://www.mnvixen.com/event/beer-bust-jerseys-bar-grill/
LOCATION:Jerseys Bar and Grill\, 6449 Concord Blvd.\, Inver Grove Heights\, MN\, 55076\, United States
END:VEVENT
BEGIN:VEVENT
DTSTART;VALUE=DATE:20150106
DTEND;VALUE=DATE:20150107
DTSTAMP:20260425T150652
CREATED:20141227T022939Z
LAST-MODIFIED:20141227T023018Z
UID:1679-1420502400-1420588799@www.mnvixen.com
SUMMARY:2015 Practice Begins!
DESCRIPTION:Let the 2015 pre-season begin!
URL:https://www.mnvixen.com/event/2015-practice-begins/
LOCATION:Northwestern Health Sciences University\, 2501 W 84th St\,\, Bloomington\, MN\, 55431\, United States
END:VEVENT
END:VCALENDAR