BEGIN:VCALENDAR
VERSION:2.0
PRODID:-//Minnesota Vixen - ECPv6.15.13//NONSGML v1.0//EN
CALSCALE:GREGORIAN
METHOD:PUBLISH
X-ORIGINAL-URL:https://www.mnvixen.com
X-WR-CALDESC:Events for Minnesota Vixen
REFRESH-INTERVAL;VALUE=DURATION:PT1H
X-Robots-Tag:noindex
X-PUBLISHED-TTL:PT1H
BEGIN:VTIMEZONE
TZID:America/Chicago
BEGIN:DAYLIGHT
TZOFFSETFROM:-0600
TZOFFSETTO:-0500
TZNAME:CDT
DTSTART:20130310T080000
END:DAYLIGHT
BEGIN:STANDARD
TZOFFSETFROM:-0500
TZOFFSETTO:-0600
TZNAME:CST
DTSTART:20131103T070000
END:STANDARD
BEGIN:DAYLIGHT
TZOFFSETFROM:-0600
TZOFFSETTO:-0500
TZNAME:CDT
DTSTART:20140309T080000
END:DAYLIGHT
BEGIN:STANDARD
TZOFFSETFROM:-0500
TZOFFSETTO:-0600
TZNAME:CST
DTSTART:20141102T070000
END:STANDARD
BEGIN:DAYLIGHT
TZOFFSETFROM:-0600
TZOFFSETTO:-0500
TZNAME:CDT
DTSTART:20150308T080000
END:DAYLIGHT
BEGIN:STANDARD
TZOFFSETFROM:-0500
TZOFFSETTO:-0600
TZNAME:CST
DTSTART:20151101T070000
END:STANDARD
END:VTIMEZONE
BEGIN:VEVENT
DTSTART;TZID=America/Chicago:20140519T160000
DTEND;TZID=America/Chicago:20140519T220000
DTSTAMP:20260425T210426
CREATED:20140515T021600Z
LAST-MODIFIED:20140515T025118Z
UID:736-1400515200-1400536800@www.mnvixen.com
SUMMARY:MN Vixen Buffalo Wild Wings Fundraiser - 5/19/14
DESCRIPTION:Join your MN Vixen for some tasty wings on Mon\, May 19 anytime between 4-10pm at Buffalo Wild Wings (80 Snelling Ave N\, St. Paul). Get your picture taken\, meet and hang out with your MN Vixen. A portion of your food order sales will go to the MN Vixen. Thank you for your support! \n  \nPlease present this coupon when you pay your bill (we’ll have some on site too\, just ask a Vixen for a coupon). \n \n 
URL:https://www.mnvixen.com/event/mn-vixen-buffalo-wild-wings-fundraiser-51914/
LOCATION:Buffalo Wild Wings\, 80 Snelling Ave N\, St. Paul\, 55104\, United States
CATEGORIES:Fundraiser
END:VEVENT
BEGIN:VEVENT
DTSTART;TZID=America/Chicago:20140516T200000
DTEND;TZID=America/Chicago:20140516T210000
DTSTAMP:20260425T210426
CREATED:20140515T022131Z
LAST-MODIFIED:20140515T022422Z
UID:740-1400270400-1400274000@www.mnvixen.com
SUMMARY:MN Vixen on Air with Mike Max (830 WCCO) on 5/16/14
DESCRIPTION:Members of your MN Vixen Women’s Football team will be on Sports To The Max with Mike Max on 830 WCCO News Radio this coming Friday\, May 16 @ 8pm. \nTune in to listen to:\n• Cynthia “Red” Bryant #96 (16 year vet and team captain\, DL & OL)\n• Jessica Giesemann #41 (4th season\, LB)\n• Julia Burkstaller #35 (rookie\, WR & DB)\n• Emilie Sundberg (retired player and Assistant Head Coach) \nWe’ll talk about our storied history\, our current 16th season\, and the future of the Minnesota Vixen\, the longest continuously operating women’s football team in the Nation. We’ll let you know where you can see us (both on and off the field)\, and how you can get involved and become part of the Vixen family (again both on and off the field). \n  \nMore details on the MN Vixen:\nLike us on Facebook: Minnesota Vixen Women’s Football\nFollow us on Twitter: @MinnVixen\nEmail: info@MNVixen.com
URL:https://www.mnvixen.com/event/mn-vixen-air-mike-max-830-wcco-51614/
LOCATION:WI
CATEGORIES:Vixen Appearance
END:VEVENT
BEGIN:VEVENT
DTSTART;TZID=America/Chicago:20140510T190000
DTEND;TZID=America/Chicago:20140510T190000
DTSTAMP:20260425T210426
CREATED:20140409T070405Z
LAST-MODIFIED:20140415T090750Z
UID:135-1399748400-1399748400@www.mnvixen.com
SUMMARY:MN Vixen vs. IA Crush (5/10/14)
DESCRIPTION:We have our first home game! Come support the Vixen.
URL:https://www.mnvixen.com/event/mn-vixen-vs-iowa-crush-51014/
LOCATION:Tiger Stadium at Farmington High School\, 20655 Flagstaff Avenue\, Farmington\, United States
CATEGORIES:Home Game
END:VEVENT
BEGIN:VEVENT
DTSTART;TZID=America/Chicago:20140503T193000
DTEND;TZID=America/Chicago:20140503T193000
DTSTAMP:20260425T210426
CREATED:20140415T091031Z
LAST-MODIFIED:20140415T091031Z
UID:163-1399145400-1399145400@www.mnvixen.com
SUMMARY:MN Vixen @ Madison Blaze (5/3/14)
DESCRIPTION:
URL:https://www.mnvixen.com/event/mn-vixen-madison-blaze-5314/
LOCATION:Middleton High\, 2100 Bristol St.\, Middleton\, WI\, United States
CATEGORIES:Away Game
END:VEVENT
BEGIN:VEVENT
DTSTART;TZID=America/Chicago:20140426T170000
DTEND;TZID=America/Chicago:20140426T170000
DTSTAMP:20260425T210426
CREATED:20140415T091557Z
LAST-MODIFIED:20140422T012558Z
UID:165-1398531600-1398531600@www.mnvixen.com
SUMMARY:MN Vixen @ WI Warriors (4/26/14)
DESCRIPTION:The MN Vixen play the WI Warriors for their 2014 Season Opener Game (April 26 in Wisconsin).
URL:https://www.mnvixen.com/event/mn-vixen-wi-warriors-42614/
LOCATION:Stephen J. Gavinski Memorial Stadium @ Greendale HS\, 6801 Southway\, Greendale\, WI\, United States
CATEGORIES:Away Game
END:VEVENT
BEGIN:VEVENT
DTSTART;TZID=America/Chicago:20140419T150000
DTEND;TZID=America/Chicago:20140419T180000
DTSTAMP:20260425T210426
CREATED:20140415T092618Z
LAST-MODIFIED:20140415T092820Z
UID:168-1397919600-1397930400@www.mnvixen.com
SUMMARY:MN Vixen Beer Bust & Silent Auction (4/19/14)
DESCRIPTION:MN Vixen Beer Bust and Silent Auction!! Items include: \n– Adrian Peterson signed certified jersey!\n– Lynx Tickets!\n– Massages\, wine baskets\, and much more! \n$10 all you can drink beer\, until the kegs are dry (purchase your wristband at the event). \nCome meet and support your MN Vixen!
URL:https://www.mnvixen.com/event/mn-vixen-beer-bust-silent-auction-41914/
LOCATION:Jammin’ Wings\, 2590 Freeway Blvd\, Brooklyn Center\, MN\, 55430\, United States
CATEGORIES:Fundraiser
END:VEVENT
END:VCALENDAR